BEGIN:VCALENDAR
VERSION:2.0
PRODID:spatie/icalendar-generator
DESCRIPTION:Events from Las Vegas Charity Classic
X-WR-CALDESC:Events from Las Vegas Charity Classic
REFRESH-INTERVAL;VALUE=DURATION:PT1440M
X-PUBLISHED-TTL:PT1440M
BEGIN:VTIMEZONE
TZID:America/Los_Angeles
BEGIN:STANDARD
DTSTART:20241103T020000Z
TZOFFSETFROM:-0700
TZOFFSETTO:-0800
END:STANDARD
BEGIN:DAYLIGHT
DTSTART:20250309T020000Z
TZOFFSETFROM:-0800
TZOFFSETTO:-0700
END:DAYLIGHT
BEGIN:STANDARD
DTSTART:20251102T020000Z
TZOFFSETFROM:-0700
TZOFFSETTO:-0800
END:STANDARD
END:VTIMEZONE
BEGIN:VTIMEZONE
TZID:UTC
BEGIN:STANDARD
DTSTART:20250724T102821Z
TZOFFSETFROM:+0000
TZOFFSETTO:+0000
END:STANDARD
END:VTIMEZONE
BEGIN:VEVENT
UID:37-32
DTSTAMP:20260420T102821Z
SUMMARY:Southern Hills Church Lobby Presence
LOCATION:Southern Hills Church 6425 W Pebble Rd  Las Vegas Nevada 89139
ORGANIZER;CN=ChadU:MAILTO:chad@digitalpros.net
DTSTART;TZID=America/Los_Angeles:20250727T083000
DTEND;TZID=America/Los_Angeles:20250727T130000
X-ALT-DESC;FMTTYPE=TEXT/HTML:We'll have a table setup with LVCC Committee m
 embers volunteering to register sponsors\, golfers\, and volunteers and gi
 ving out our event cards.
CATEGORIES:Public
URL;VALUE=URI:https://lvcharityclassic.com/mc-events/southern-hills-church-
 lobby-presence/
METHOD:PUBLISH
END:VEVENT
END:VCALENDAR